BEGIN:VCALENDAR
VERSION:2.0
PRODID:-//Solar Energy International (SEI) - Cursos de Energía Solar para la Fuerza Laboral - ECPv6.15.17.1//NONSGML v1.0//EN
CALSCALE:GREGORIAN
METHOD:PUBLISH
X-WR-CALNAME:Solar Energy International (SEI) - Cursos de Energía Solar para la Fuerza Laboral
X-ORIGINAL-URL:https://seidev.zgtec.com/es
X-WR-CALDESC:Eventos para Solar Energy International (SEI) - Cursos de Energía Solar para la Fuerza Laboral
REFRESH-INTERVAL;VALUE=DURATION:PT1H
X-Robots-Tag:noindex
X-PUBLISHED-TTL:PT1H
BEGIN:VTIMEZONE
TZID:America/Denver
BEGIN:DAYLIGHT
TZOFFSETFROM:-0700
TZOFFSETTO:-0600
TZNAME:MDT
DTSTART:20170312T090000
END:DAYLIGHT
BEGIN:STANDARD
TZOFFSETFROM:-0600
TZOFFSETTO:-0700
TZNAME:MST
DTSTART:20171105T080000
END:STANDARD
BEGIN:DAYLIGHT
TZOFFSETFROM:-0700
TZOFFSETTO:-0600
TZNAME:MDT
DTSTART:20180311T090000
END:DAYLIGHT
BEGIN:STANDARD
TZOFFSETFROM:-0600
TZOFFSETTO:-0700
TZNAME:MST
DTSTART:20181104T080000
END:STANDARD
BEGIN:DAYLIGHT
TZOFFSETFROM:-0700
TZOFFSETTO:-0600
TZNAME:MDT
DTSTART:20190310T090000
END:DAYLIGHT
BEGIN:STANDARD
TZOFFSETFROM:-0600
TZOFFSETTO:-0700
TZNAME:MST
DTSTART:20191103T080000
END:STANDARD
BEGIN:DAYLIGHT
TZOFFSETFROM:-0700
TZOFFSETTO:-0600
TZNAME:MDT
DTSTART:20200308T090000
END:DAYLIGHT
BEGIN:STANDARD
TZOFFSETFROM:-0600
TZOFFSETTO:-0700
TZNAME:MST
DTSTART:20201101T080000
END:STANDARD
BEGIN:DAYLIGHT
TZOFFSETFROM:-0700
TZOFFSETTO:-0600
TZNAME:MDT
DTSTART:20210314T090000
END:DAYLIGHT
BEGIN:STANDARD
TZOFFSETFROM:-0600
TZOFFSETTO:-0700
TZNAME:MST
DTSTART:20211107T080000
END:STANDARD
END:VTIMEZONE
BEGIN:VEVENT
DTSTART;TZID=America/Denver:20200224T080000
DTEND;TZID=America/Denver:20200228T160000
DTSTAMP:20260420T094125
CREATED:20190923T211202Z
LAST-MODIFIED:20200211T042117Z
UID:19253-1582531200-1582905600@seidev.zgtec.com
SUMMARY:Diseño e Instalación Solar Eléctrica (Sistemas Interactivos) - Presencial
DESCRIPTION:
URL:https://seidev.zgtec.com/es/courses/diseno-e-instalacion-solar-electrica-sistemas-interactivos-presencial-6/
LOCATION:San Jose\, Costa Rica\, C087A\, Provincia de San José\, Curridabat\, Costa Rica\, San Jose\, Costa Rica\, Costa Rica
CATEGORIES:Curso Destacado,Cursos en Español,Cursos Prácticos Presenciales
GEO:9.9110746;-84.0382014
X-APPLE-STRUCTURED-LOCATION;VALUE=URI;X-ADDRESS=San Jose Costa Rica C087A Provincia de San José Curridabat Costa Rica San Jose Costa Rica Costa Rica;X-APPLE-RADIUS=500;X-TITLE=C087A\, Provincia de San José\, Curridabat\, Costa Rica:geo:-84.0382014,9.9110746
END:VEVENT
BEGIN:VEVENT
DTSTART;TZID=America/Denver:20191111T090000
DTEND;TZID=America/Denver:20191115T170000
DTSTAMP:20260420T094125
CREATED:20180911T230114Z
LAST-MODIFIED:20190801T034226Z
UID:17958-1573462800-1573837200@seidev.zgtec.com
SUMMARY:Diseño e Instalación Solar Eléctrica (Sistemas Interactivos) - Presencial
DESCRIPTION:Para obtener más información sobre como viajar a Costa Rica\, alojamientos y transportes por favor haz click aquí. \nSi eres agremiado de CIEMI o CFIA contáctanos a programahispano@solarenergy.org por un descuento especial.
URL:https://seidev.zgtec.com/es/courses/diseno-e-instalacion-solar-electrica-sistemas-interactivos-presencial/
LOCATION:San Jose\, Costa Rica\, C087A\, Provincia de San José\, Curridabat\, Costa Rica\, San Jose\, Costa Rica\, Costa Rica
CATEGORIES:Curso Destacado,Cursos en Español,Cursos Prácticos Presenciales
GEO:9.9110746;-84.0382014
X-APPLE-STRUCTURED-LOCATION;VALUE=URI;X-ADDRESS=San Jose Costa Rica C087A Provincia de San José Curridabat Costa Rica San Jose Costa Rica Costa Rica;X-APPLE-RADIUS=500;X-TITLE=C087A\, Provincia de San José\, Curridabat\, Costa Rica:geo:-84.0382014,9.9110746
END:VEVENT
BEGIN:VEVENT
DTSTART;TZID=America/Denver:20191014T080000
DTEND;TZID=America/Denver:20191018T160000
DTSTAMP:20260420T094125
CREATED:20181019T211023Z
LAST-MODIFIED:20191009T005044Z
UID:18141-1571040000-1571414400@seidev.zgtec.com
SUMMARY:Diseño Fotovoltaico Avanzado y el NEC (Sistemas Interactivos)
DESCRIPTION:Para más información ubicación\, alojamiento y transporte por favor haz click aquí. \nSi eres agremiado de CIEMI o CFIA contáctanos a programahispano@solarenergy.org por un descuento especial.
URL:https://seidev.zgtec.com/es/courses/diseno-fotovoltaico-avanzado-y-el-nec-sistemas-interactivos/
LOCATION:San Jose\, Costa Rica\, C087A\, Provincia de San José\, Curridabat\, Costa Rica\, San Jose\, Costa Rica\, Costa Rica
CATEGORIES:Cursos en Español,Cursos Prácticos Presenciales
GEO:9.9110746;-84.0382014
X-APPLE-STRUCTURED-LOCATION;VALUE=URI;X-ADDRESS=San Jose Costa Rica C087A Provincia de San José Curridabat Costa Rica San Jose Costa Rica Costa Rica;X-APPLE-RADIUS=500;X-TITLE=C087A\, Provincia de San José\, Curridabat\, Costa Rica:geo:-84.0382014,9.9110746
END:VEVENT
BEGIN:VEVENT
DTSTART;TZID=America/Denver:20190211T090000
DTEND;TZID=America/Denver:20190215T170000
DTSTAMP:20260420T094125
CREATED:20180911T230239Z
LAST-MODIFIED:20190119T041122Z
UID:17956-1549875600-1550250000@seidev.zgtec.com
SUMMARY:Diseño e Instalación Solar Eléctrica (Sistemas Interactivos) - Presencial
DESCRIPTION:Para obtener más información sobre como viajar a Costa Rica\, alojamientos y transportes por favor haz click aquí. \nSi eres agremiado de CIEMI o CFIA contáctanos a programahispano@solarenergy.org por un descuento especial.
URL:https://seidev.zgtec.com/es/courses/diseno-e-instalacion-solar-electrica-sistemas-interactivos-presencial-2/
LOCATION:San Jose\, Costa Rica\, C087A\, Provincia de San José\, Curridabat\, Costa Rica\, San Jose\, Costa Rica\, Costa Rica
CATEGORIES:Curso Destacado,Cursos en Español,Cursos Prácticos Presenciales
GEO:9.9110746;-84.0382014
X-APPLE-STRUCTURED-LOCATION;VALUE=URI;X-ADDRESS=San Jose Costa Rica C087A Provincia de San José Curridabat Costa Rica San Jose Costa Rica Costa Rica;X-APPLE-RADIUS=500;X-TITLE=C087A\, Provincia de San José\, Curridabat\, Costa Rica:geo:-84.0382014,9.9110746
END:VEVENT
BEGIN:VEVENT
DTSTART;TZID=America/Denver:20181029T090000
DTEND;TZID=America/Denver:20181102T170000
DTSTAMP:20260420T094125
CREATED:20180111T041215Z
LAST-MODIFIED:20181026T003018Z
UID:17077-1540803600-1541178000@seidev.zgtec.com
SUMMARY:Diseño e Instalación Solar Eléctrica (Sistemas Interactivos) - Presencial
DESCRIPTION:Para obtener más información sobre como viajar a Costa Rica\, alojamientos y transportes por favor haz click aquí. \nSi eres agremiado de CIEMI o CFIA\, o necesitas una factura en colones\, contacta a nuestros asesores a programahispano@solarenergy.org
URL:https://seidev.zgtec.com/es/courses/diseno-e-instalacion-solar-electrica-sistemas-interactivos-presencial-3/
LOCATION:San Jose\, Costa Rica\, C087A\, Provincia de San José\, Curridabat\, Costa Rica\, San Jose\, Costa Rica\, Costa Rica
CATEGORIES:Curso Destacado,Cursos en Español,Cursos Prácticos Presenciales
GEO:9.9110746;-84.0382014
X-APPLE-STRUCTURED-LOCATION;VALUE=URI;X-ADDRESS=San Jose Costa Rica C087A Provincia de San José Curridabat Costa Rica San Jose Costa Rica Costa Rica;X-APPLE-RADIUS=500;X-TITLE=C087A\, Provincia de San José\, Curridabat\, Costa Rica:geo:-84.0382014,9.9110746
END:VEVENT
BEGIN:VEVENT
DTSTART;TZID=America/Denver:20180416T090000
DTEND;TZID=America/Denver:20180420T170000
DTSTAMP:20260420T094125
CREATED:20180111T041216Z
LAST-MODIFIED:20180316T001141Z
UID:17075-1523869200-1524243600@seidev.zgtec.com
SUMMARY:Diseño e Instalación Solar Eléctrica (Sistemas Interactivos) - Presencial
DESCRIPTION:SEI ofrece sus capacitaciones técnicas presenciales de energía solar en San José\,Costa Rica con la ayuda del Colegio de Ingenieros y Electricistas\, Mecánicos e Industriales de Costa Rica (CIEMI)\, y el Colegio Federado de Ingenieros y Arquitectos de Costa Rica (CFIA). \nNuestros instructores viajan a Costa Rica para ofrecer entrenamiento técnico líder en energía solar a más y más hispanohablantes en América Latina. Desde la creación de nuestro Programa Hispano en 2013\, SEI ha capacitado más de 3.000 profesionales de habla hispana con la misión de desarrollar una fuerza de trabajo altamente capacitada\, que sea capaz de acompañar al crecimiento de la región en el desarrollo de las energías renovables. \n>Descuentos Especiales: \nPara aplicar al descuento\, los profesionales inscriptos de CIEMI y CFIA podrán requerir el cupón de descuento en programahispano@solarenergy.org El mismo deberá ser ingresado durante el registro online. \n>Funcionarios Públicos de Costa Rica:\nAquellos funcionarios públicos costarricenses que requieran una factura en colones para el reembolso de acuerdo a lo estipulado por sus empleadores\, por favor contactar directamente a adhernandez@cfia.cr para registrarse al curso. \n>Viajar a Costa Rica:\nLos cursos teóricos de SEI se ofrecen en el Centro de Capacitación de CIEMI ubicado en San José\, Costa Rica. Este país ocupa un lugar privilegiado en el corazón de Centroamérica\, con 51 mil kilómetros cuadrados de extensión y playas bañadas por el Mar Caribe y por el océano Pacífico\, que se pueden recorrer en un solo día. Se destaca por su variedad de ecosistemas acuáticos y sus playas de arena negra y blanca\, ideales para la práctica de actividades enfocadas en la naturaleza y el mar. Aprovecha esta oportunidad única para aprender y distenderte\, obtiene todo la información que necesitarás para tu viaje aquí.
URL:https://seidev.zgtec.com/es/courses/diseno-e-instalacion-solar-electrica-sistemas-interactivos-presencial-4/
LOCATION:San Jose\, Costa Rica\, C087A\, Provincia de San José\, Curridabat\, Costa Rica\, San Jose\, Costa Rica\, Costa Rica
CATEGORIES:Curso Destacado,Cursos en Español,Cursos Prácticos Presenciales
GEO:9.9110746;-84.0382014
X-APPLE-STRUCTURED-LOCATION;VALUE=URI;X-ADDRESS=San Jose Costa Rica C087A Provincia de San José Curridabat Costa Rica San Jose Costa Rica Costa Rica;X-APPLE-RADIUS=500;X-TITLE=C087A\, Provincia de San José\, Curridabat\, Costa Rica:geo:-84.0382014,9.9110746
END:VEVENT
END:VCALENDAR